BEGIN:VCALENDAR
CALSCALE:GREGORIAN
PRODID:-//Apple Inc.//macOS 15.3.1//EN
VERSION:2.0
BEGIN:VTIMEZONE
TZID:Europe/Berlin
BEGIN:DAYLIGHT
DTSTART:19810329T020000
RRULE:FREQ=YEARLY;BYMONTH=3;BYDAY=-1SU
TZNAME:MESZ
TZOFFSETFROM:+0100
TZOFFSETTO:+0200
END:DAYLIGHT
BEGIN:STANDARD
DTSTART:19961027T030000
RRULE:FREQ=YEARLY;BYMONTH=10;BYDAY=-1SU
TZNAME:MEZ
TZOFFSETFROM:+0200
TZOFFSETTO:+0100
END:STANDARD
END:VTIMEZONE
BEGIN:VEVENT
CREATED:20250310T201403Z
DESCRIPTION:Am 3. August 2025 findet unser Dorfflohmarkt in Volkartshain
  statt. Das Marktgeschehen erstreckt sich über das gesamte Dorf von Volk
 artshain und bietet eine wunderbare Gelegenheit\, nach Schätzen zu stöbe
 rn und einzigartige Fundstücke zu entdecken. Von antiken Möbeln über han
 dgemachte Kunstwerke bis hin zu Kleidung und Spielzeug – hier ist für je
 den etwas dabei!
DTEND;TZID=Europe/Berlin:20250803T160000
DTSTAMP:20250311T105824Z
DTSTART;TZID=Europe/Berlin:20250803T100000
LAST-MODIFIED:20250311T105821Z
SEQUENCE:1
SUMMARY:Flohmarkt in Volkartshain
TRANSP:OPAQUE
UID:4F24737D-0ABC-4F1D-A7C9-7AF18731D8C0
URL;VALUE=URI:https://flohmarkt-volkartshain.de/
X-APPLE-CREATOR-IDENTITY:com.apple.calendar
X-APPLE-CREATOR-TEAM-IDENTITY:0000000000
BEGIN:VALARM
ACTION:DISPLAY
DESCRIPTION:Erinnerung
TRIGGER:-P1D
UID:B99DA195-8288-46C5-8BC2-62290C6A9EDD
X-WR-ALARMUID:B99DA195-8288-46C5-8BC2-62290C6A9EDD
END:VALARM
BEGIN:VALARM
ACTION:NONE
TRIGGER;VALUE=DATE-TIME:19760401T005545Z
END:VALARM
END:VEVENT
END:VCALENDAR
